BEGIN:VCALENDAR
VERSION:2.0
PRODID:-//eventon.com NONSGML v1.0//EN
BEGIN:VEVENT
UID:69ecef40a2f3a
DTSTAMP:20260425T184344
DTSTART:20191007T220000Z
DTEND:20191018T215900Z
LOCATION:
SUMMARY:UPTERDAM
DESCRIPTION: BSCC is a media partner of the e-commerce conference UPTERDAM
END:VEVENT
END:VCALENDAR