BEGIN:VCALENDAR
VERSION:2.0
PRODID:-//eventon.com NONSGML v1.0//EN
BEGIN:VEVENT
UID:69ecd618935fd
DTSTAMP:20260425T165624
DTSTART:20191002T220000Z
DTEND:20191003T215900Z
LOCATION:
SUMMARY:BSCC presentation at Slovak Business Agency
DESCRIPTION: BSCC presentation at Slovak Business Agency
END:VEVENT
END:VCALENDAR